BEGIN:VCALENDAR
VERSION:2.0
PRODID:Events Booking
BEGIN:VEVENT
UID:69eb188d42d1f
SUMMARY:bauenschweiz Webinar #2: Nachhaltigkeit in den Zuschlagskriterien u
 nd Ansätze
DESCRIPTION:Webinar-Reihe zum Beschaffungsrecht. Es sind noch keine Informa
 tionen dazu bekannt.
LOCATION:Zürich\, Schweiz
DTSTART:20240624T083000Z
DTEND:20240624T100000Z
DTSTAMP:20240220T072751Z
ORGANIZER;CN=IFMA Schweiz :MAILTO:admin@ifma.ch
GEO:47.376887;8.541694
X-APPLE-STRUCTURED-LOCATION;VALUE=URI;X-ADDRESS=Zürich\, Schweiz;X-APPLE-R
 ADIUS=72;X-TITLE=online:47.376887;8.541694
END:VEVENT
END:VCALENDAR