BEGIN:VCALENDAR
VERSION:2.0
PRODID:Events Booking
BEGIN:VEVENT
UID:69eb2b3e8a10e
SUMMARY:bauenschweiz Webinaire #4: Wrap up des Webinaires nr°1-3
DESCRIPTION:Résumé des webinaires allemands de Bauenschweiz concernant le
  moniteur des adjudications du secteur suisse de la construction. 
DTSTART:20240903T083000Z
DTEND:20240903T100000Z
DTSTAMP:20240220T074237Z
ORGANIZER;CN=IFMA Schweiz :MAILTO:admin@ifma.ch
END:VEVENT
END:VCALENDAR