BEGIN:VCALENDAR
VERSION:2.0
PRODID:Events Booking
BEGIN:VEVENT
UID:69e4cf341be85
SUMMARY:Lüftung und Modernisierung: einfach und zurückhaltend nachrüsten
DESCRIPTION:Eine automatische Lüftung sorgt für gesunde und frische Luft 
 – und rauchende Köpfe bei vielen Architekten. Eine kontroverse Debatte 
 über Lüftung von und mit Architekten. Wir zeigen Fallbeispiele und Erken
 ntnisse aus der Betriebsphase.
LOCATION:Stauffacherstrasse 60\, 8004 Zürich\, Schweiz
DTSTART:20190822T113000Z
DTEND:20190822T150000Z
DTSTAMP:20260419T144852Z
ORGANIZER;CN=IFMA Schweiz :MAILTO:admin@ifma.ch
GEO:47.375423;8.527326
X-APPLE-STRUCTURED-LOCATION;VALUE=URI;X-ADDRESS=Stauffacherstrasse 60\, 800
 4 Zürich\, Schweiz;X-APPLE-RADIUS=72;X-TITLE=Zürich\, Volkshaus:47.37542
 3;8.527326
END:VEVENT
END:VCALENDAR