BEGIN:VCALENDAR
VERSION:2.0
PRODID:Events Booking
BEGIN:VEVENT
UID:69e8b492ee49e
SUMMARY:Strommangellage – was gilt es zu tun?
DESCRIPTION:FEZ UpToDate Diesen Winter droht unter anderem aufgrund des Ukr
 aine-Krieges und des trockenen Sommers eine Strommangellage in der Schweiz
 . Was bedeutet das und was kann jetzt getan werden\, um die Mangellage zu 
 verhindern? Wie sollen sich Unternehmen auf eine Mangellage vorbereiten\, 
 falls sie eintritt? Stellen Sie Ihre Fragen unserem Experten.
LOCATION:Zürich\, Schweiz
DTSTART:20221107T160000Z
DTEND:20221107T164500Z
DTSTAMP:20260422T134418Z
ORGANIZER;CN=IFMA Schweiz :MAILTO:admin@ifma.ch
GEO:47.376887;8.541694
X-APPLE-STRUCTURED-LOCATION;VALUE=URI;X-ADDRESS=Zürich\, Schweiz;X-APPLE-R
 ADIUS=72;X-TITLE=online:47.376887;8.541694
END:VEVENT
END:VCALENDAR