BEGIN:VCALENDAR
VERSION:2.0
PRODID:Events Booking
BEGIN:VEVENT
UID:69eae2a8d547f
SUMMARY:Smart Building aus der Sicht von SwissLife
DESCRIPTION:Wie kann man besser helfen in das Internet der Dinge einzusteig
 en als seine eigenen Erfahrungen zu teilen? Dazu ist das Facility Manageme
 nt von Swiss Life gerne bereit.
 Dank IoT stehen Mengen von Daten und Inf
 ormationen zur Verfügung.
 
 Wie kann man sie verwalten und auswerten d
 amit Gebäude wirklich Smart werden?
 Welche sind die wichtigen Use Cases
  von IoT ?
 
LOCATION:Grubenstrasse 49\, 8045 Zürich\, Schweiz
DTSTART:20221019T150000Z
DTEND:20221019T170000Z
DTSTAMP:20260424T052528Z
ORGANIZER;CN=IFMA Schweiz :MAILTO:admin@ifma.ch
GEO:47.361507;8.510514
X-APPLE-STRUCTURED-LOCATION;VALUE=URI;X-ADDRESS=Grubenstrasse 49\, 8045 Zü
 rich\, Schweiz;X-APPLE-RADIUS=72;X-TITLE=Zürich Binz\, SwissLife Generala
 gentur:47.361507;8.510514
END:VEVENT
END:VCALENDAR