BEGIN:VCALENDAR
VERSION:2.0
PRODID:Events Booking
BEGIN:VEVENT
UID:69e8b4fdaa32b
SUMMARY:GNI Seminar und Rundgang im CIRCLE
DESCRIPTION:Im Rahmen eines GNI-Feierabendseminars haben Sie die tolle Gele
 genheit\, Top-Lösungen die im Circle installiert sind\, zu entdecken.Was 
 hier klug und pfiffig umgesetzt wurde\, kann sich für den Circle aller Ba
 uherren als sinnvoller Lösungsansatz erweisen und viele Nutzer begeistern
 .
LOCATION:The Circle 60\, 8302 Kloten\, Schweiz
DTSTART:20221121T160000Z
DTEND:20221120T230000Z
DTSTAMP:20260422T134605Z
ORGANIZER;CN=IFMA Schweiz :MAILTO:admin@ifma.ch
GEO:47.449128;8.56651
X-APPLE-STRUCTURED-LOCATION;VALUE=URI;X-ADDRESS=The Circle 60\, 8302 Kloten
 \, Schweiz;X-APPLE-RADIUS=72;X-TITLE=Zürich\, The Circle  Novu Campus:47.
 449128;8.56651
END:VEVENT
END:VCALENDAR