BEGIN:VCALENDAR
VERSION:2.0
PRODID:Events Booking
BEGIN:VEVENT
UID:69eb675dc2b3e
SUMMARY:eBO: Stolpersteine\, Schnittstellen IB\, Abgrenzung
DESCRIPTION:Die Ausschreibungsdetails zur Veranstaltung rund um die Ausschr
 eibung von Leistungen\, Rollen und verschiedenen Vorstellungen der Bestell
 er*innen zu eBO* folgen demnächst.Der Besuch dieser Fachveranstaltung ist
  für alle Interessierten kostenlos.
LOCATION:Zürich\, Schweiz
DTSTART:20240904T151500Z
DTEND:20240904T174500Z
DTSTAMP:20240312T095033Z
ORGANIZER;CN=IFMA Schweiz :MAILTO:admin@ifma.ch
GEO:47.376887;8.541694
X-APPLE-STRUCTURED-LOCATION;VALUE=URI;X-ADDRESS=Zürich\, Schweiz;X-APPLE-R
 ADIUS=72;X-TITLE=Zurich:47.376887;8.541694
END:VEVENT
END:VCALENDAR