BEGIN:VCALENDAR
VERSION:2.0
PRODID:Events Booking
BEGIN:VEVENT
UID:69e7bcec7b31c
SUMMARY:BIM Conference
DESCRIPTION:Le secteur de l’industrie du bâtiment\, de la construction e
 st en constante évolution. Les évolutions et les tendances technologique
 s (et politiques) conduisent à des changements des besoins et exigences d
 u marché du travail. La complexité augmente à tous les niveaux :
 &nbs
 p\;&nbsp\;&nbsp\; Qu'est-ce que cela signifie pour le travail et la vie qu
 otidienne ?&nbsp\;&nbsp\;&nbsp\; Quels rôles joue le BIM dans cette évol
 ution ?&nbsp\;&nbsp\;&nbsp\; Que signifie la numérisation pour mon domain
 e ?&nbsp\;&nbsp\;&nbsp\; Comment puis-je tirer le meilleur parti des oppor
 tunités ?&nbsp\;&nbsp\;&nbsp\; Quels sont les risques de la numérisation
  ?&nbsp\;&nbsp\;&nbsp\; A quoi dois-je faire attention lors de la mise en 
 œuvre ?
LOCATION:Route Louis-Favre 2\, 1024 Ecublens\, Schweiz
DTSTART:20191114T080000Z
DTEND:20191114T160000Z
DTSTAMP:20260421T200740Z
ORGANIZER;CN=IFMA Schweiz :MAILTO:admin@ifma.ch
GEO:46.523083;6.564642
X-APPLE-STRUCTURED-LOCATION;VALUE=URI;X-ADDRESS=Route Louis-Favre 2\, 1024 
 Ecublens\, Schweiz;X-APPLE-RADIUS=72;X-TITLE=Lausanne\, Swiss Tech Convent
 ion:46.523083;6.564642
END:VEVENT
END:VCALENDAR