BEGIN:VCALENDAR
VERSION:2.0
PRODID:Events Booking
BEGIN:VEVENT
UID:69eaf233263c4
SUMMARY:World Workplace Europe 2023
DESCRIPTION:World Workplace Europe is the gold standard for FM knowledge\, 
 best practices and innovations and brings together thought leaders in the 
 industry to share their expertise and latest research with the global comm
 unity.&nbsp\;
 IFMA EMEA\, FMN and EuroFM invite you to submit an abstrac
 t for consideration on the conference theme\,&nbsp\;FM leading the transfo
 rmation towards a better future\,&nbsp\;including any of the following top
 ics:
 
 Workplace
 Sustainability
 Technology
 Innovation
 Real Esta
 te
 Hospitality
 Well-being
 
 Especially for members of EuroFM (IFMA 
 Switzerland is member) we offer a special discount of 50% on the normal pr
 ice of the event. The first 10 participants receive this discount. If you 
 want to be considered\, please contact Natalie Hofman (natalie@eurofm.org)
  as soon as possible.
LOCATION:Sint-Jobsweg 116\, 3024 EA Rotterdam\, Niederlande
DTSTART:20230321T230000Z
DTEND:20230322T230000Z
DTSTAMP:20260424T063147Z
ORGANIZER;CN=IFMA Schweiz :MAILTO:admin@ifma.ch
GEO:51.903978;4.459003
X-APPLE-STRUCTURED-LOCATION;VALUE=URI;X-ADDRESS=Sint-Jobsweg 116\, 3024 EA 
 Rotterdam\, Niederlande;X-APPLE-RADIUS=72;X-TITLE=Niederlande\, The Schiec
 entrale:51.903978;4.459003
END:VEVENT
END:VCALENDAR