BEGIN:VCALENDAR
VERSION:2.0
PRODID:Events Booking
BEGIN:VEVENT
UID:69e77a1da9c8c
SUMMARY:türöffner-event: Zehnder Group Schweiz AG 
DESCRIPTION:Wohnraumlüftungen einfach bis komplex
LOCATION:Moortalstrasse 3\, 5722 Gränichen\, Schweiz
DTSTART:20190507T150000Z
DTEND:20190507T180000Z
DTSTAMP:20260421T152237Z
ORGANIZER;CN=IFMA Schweiz :MAILTO:admin@ifma.ch
GEO:47.353146;8.10659
X-APPLE-STRUCTURED-LOCATION;VALUE=URI;X-ADDRESS=Moortalstrasse 3\, 5722 Gr
 änichen\, Schweiz;X-APPLE-RADIUS=72;X-TITLE=Gränichen:47.353146;8.10659
END:VEVENT
END:VCALENDAR