BEGIN:VCALENDAR
VERSION:2.0
PRODID:Events Booking
BEGIN:VEVENT
UID:69eb50eb2deaf
SUMMARY:Swiss Valuation Congress 2024
DESCRIPTION:Das Zinsumfeld hat die Nachfrage an den Immobilienmärkten mark
 ant verändert. Das Entwicklungsgeschäft verlangt auch aufgrund gestiegen
 er Baukosten eine gute Adaption an die Markterfordernisse. Investoren und 
 Nutzer habe eine unterschiedliche Perspektive auf den Immobilienmarkt. Wir
  beleuchten die Veränderungen im Transaktionsmarkt und auf der Nachfrages
 eite. Der Immobilienpark Schweiz fordert nachhaltige Erneuerungsinvestitio
 nen im Bestand. Und in Kloten geht die Entwicklung der Flughafen-Stadt in 
 eine neue Dimension.
LOCATION:Stauffacherstrasse 60\, 8004 Zürich\, Schweiz
DTSTART:20240924T100000Z
DTEND:20240924T170000Z
DTSTAMP:20240626T124114Z
ORGANIZER;CN=IFMA Schweiz :MAILTO:admin@ifma.ch
GEO:47.375423;8.527326
X-APPLE-STRUCTURED-LOCATION;VALUE=URI;X-ADDRESS=Stauffacherstrasse 60\, 800
 4 Zürich\, Schweiz;X-APPLE-RADIUS=72;X-TITLE=Zürich\, Volkshaus:47.37542
 3;8.527326
END:VEVENT
END:VCALENDAR