BEGIN:VCALENDAR
VERSION:2.0
PRODID:Events Booking
BEGIN:VEVENT
UID:69e8a1967fb7b
SUMMARY:Swiss Real Estate Forum
DESCRIPTION:Erleben Sie das SVIT Forum und SVIT Plenum in ganz neuem Format
 \, dem SREF.
 Fachspezialisten aus der Immobilienbranche\, sowie spannend
 e Persönlichkeiten aus&nbsp\; Wirtschaft\, Politik und Entertainment begl
 eiten Sie am Swiss Real Estate Forum 2022 durch ein abwechslungsreiches Pr
 ogramm. Den Donnerstagabend können Sie an Bord der MS Diamant ausklingen 
 lassen.
LOCATION:Lidostrasse 5\, 6006 Luzern
DTSTART:20220623T080000Z
DTEND:20220624T120000Z
DTSTAMP:20260422T122318Z
ORGANIZER;CN=IFMA Schweiz :MAILTO:admin@ifma.ch
GEO:47.052486;8.335715
X-APPLE-STRUCTURED-LOCATION;VALUE=URI;X-ADDRESS=Lidostrasse 5\, 6006 Luzern
 ;X-APPLE-RADIUS=72;X-TITLE=Luzern\, Verkehrshaus:47.052486;8.335715
END:VEVENT
END:VCALENDAR