BEGIN:VCALENDAR
VERSION:2.0
PRODID:Events Booking
BEGIN:VEVENT
UID:69e7a6c8d856a
SUMMARY:RICS-Focus 2020: Live.Work.Play. Das Urbane Quartier der Zukunft
DESCRIPTION:
 Im Brennpunkt steht der Urban Block 4.0 als zentraler Bauste
 in für das intelligente Stadtquartier der Zukunft -&nbsp\;angesichts der 
 aktuellen Krise ein besonders spannendes Thema mit vielen Facetten.
 IFMA
  Schweiz Mitglieder erhalten die gleichen Konditionen wie RICS Mitglieder.
LOCATION:Zürich\, Schweiz
DTSTART:20200507T080000Z
DTEND:20200507T131500Z
DTSTAMP:20260421T183312Z
ORGANIZER;CN=IFMA Schweiz :MAILTO:admin@ifma.ch
GEO:47.376887;8.541694
X-APPLE-STRUCTURED-LOCATION;VALUE=URI;X-ADDRESS=Zürich\, Schweiz;X-APPLE-R
 ADIUS=72;X-TITLE=online:47.376887;8.541694
END:VEVENT
END:VCALENDAR