BEGIN:VCALENDAR
VERSION:2.0
PRODID:Events Booking
BEGIN:VEVENT
UID:69eb41913faa5
SUMMARY:Réunion du Réseau Romandie: Visite de site
DESCRIPTION:Réservez déjà la date. Des informations détaillées suivron
 t de fmpro
DTSTART:20240523T150000Z
DTEND:20240523T180000Z
DTSTAMP:20240125T083354Z
ORGANIZER;CN=IFMA Schweiz :MAILTO:admin@ifma.ch
END:VEVENT
END:VCALENDAR