BEGIN:VCALENDAR
VERSION:2.0
PRODID:Events Booking
BEGIN:VEVENT
UID:69e75050a1254
SUMMARY:Prädiktive Heizungsregelung und Nachrüsten von Sensorik für Heiz
 ungsoptimierung
DESCRIPTION:
LOCATION:Beatenpl. 2\, 8001 Zürich\, Schweiz
DTSTART:20180919T154500Z
DTEND:20180919T171500Z
DTSTAMP:20260421T122416Z
ORGANIZER;CN=IFMA Schweiz :MAILTO:admin@ifma.ch
GEO:47.37578;8.540698
X-APPLE-STRUCTURED-LOCATION;VALUE=URI;X-ADDRESS=Beatenpl. 2\, 8001 Zürich\
 , Schweiz;X-APPLE-RADIUS=72;X-TITLE=Zürich\, EWZ Vortragssaal:47.37578;8.
 540698
END:VEVENT
END:VCALENDAR