BEGIN:VCALENDAR
VERSION:2.0
PRODID:Events Booking
BEGIN:VEVENT
UID:69e62763b03a9
SUMMARY:People\, Planet\, Profit - nachhaltig aus der Krise?
DESCRIPTION:An dieser Veranstaltung behandelt RICS Deutschland die Frage\, 
 wie eine nachhaltige wirtschaftliche Erholung von den Folgen der Covid-19-
 Pandemie aussehen könnte. Dazu werden&nbsp\;aktuelle Aspekte und Fragen a
 us Sicht der Bewerter\, der Finanzierer\, der Investoren sowie aus Praxis 
 und Politik beleuchtet.
DTSTART:20200616T140000Z
DTEND:20200616T150000Z
DTSTAMP:20260420T151723Z
ORGANIZER;CN=IFMA Schweiz :MAILTO:admin@ifma.ch
END:VEVENT
END:VCALENDAR