BEGIN:VCALENDAR
VERSION:2.0
PRODID:Events Booking
BEGIN:VEVENT
UID:69eb28130bbf4
SUMMARY:Netzwerktreffen Reinigung - Thema Lufthygiene
DESCRIPTION:Spätestens seit Beginn der aktuellen Pandemie ist Raumlufthygi
 ene zum globalen Thema geworden. Im Rahmen des Anlasses \"Saubere Luft - d
 as Wichtigste im Leben\" hören Sie ein Referat\, danach folgt eine Betrie
 bsbesichtigung\, bevor der obligate Netzwerkapéro stattfindet.
LOCATION:Staffeleggstrasse 5\, 5024 Küttigen\, Schweiz
DTSTART:20211111T150000Z
DTEND:20211111T173000Z
DTSTAMP:20260424T102139Z
ORGANIZER;CN=IFMA Schweiz :MAILTO:admin@ifma.ch
GEO:47.418459;8.047938
X-APPLE-STRUCTURED-LOCATION;VALUE=URI;X-ADDRESS=Staffeleggstrasse 5\, 5024 
 Küttigen\, Schweiz;X-APPLE-RADIUS=72;X-TITLE=Küttigen\, tiventa AG:47.41
 8459;8.047938
END:VEVENT
END:VCALENDAR