BEGIN:VCALENDAR
VERSION:2.0
PRODID:Events Booking
BEGIN:VEVENT
UID:69e624d15ac1b
SUMMARY:Netzwerktreffen Reinigung
DESCRIPTION:Sicheres Arbeiten in der HöheSeit Anfang Jahr dürfen Unterneh
 men Arbeiten mit besonderen Gefahren nur Mitarbeitenden übertragen\, die 
 dafür entsprechend ausgebildet sind. Zu besonderen Gefahren in der Reinig
 ungsbranche zählen Arbeiten in der Höhe. Kennen Sie die neu überarbeit
 ete Bauarbeitenverordnung 2022&nbsp\; (BauAV)\, welche ab 01.01.22 rechtli
 ch bindend ist? Auch die Reinigungsbranche ist davon betroffen.
LOCATION:u. Brühlstrasse 1\, 4800 Zofingen\, Schweiz
DTSTART:20221115T150000Z
DTEND:20221115T180000Z
DTSTAMP:20260420T150625Z
ORGANIZER;CN=IFMA Schweiz :MAILTO:admin@ifma.ch
GEO:47.287684;7.938621
X-APPLE-STRUCTURED-LOCATION;VALUE=URI;X-ADDRESS=u. Brühlstrasse 1\, 4800 Z
 ofingen\, Schweiz;X-APPLE-RADIUS=72;X-TITLE=Zofingen\, Ausbildungszentrum 
 Safety Training:47.287684;7.938621
END:VEVENT
END:VCALENDAR