BEGIN:VCALENDAR
VERSION:2.0
PRODID:Events Booking
BEGIN:VEVENT
UID:69eadea15071d
SUMMARY:Klimawandel als Herausforderung für den Gebäudepark
DESCRIPTION:FEZ ENERGIE Event
 
 Klimawandel - die Herausforderungen und 
 lokale Lösungen
 Anpassungsfähige Komponenten auf und von Gebäuden
 K
 limaschutz und -anpassung im Gebäudeportfolio der Stadt Zürich
 
LOCATION:Weinbergstrasse 36\, 8006 Zürich\, Schweiz
DTSTART:20221115T161500Z
DTEND:20221115T180000Z
DTSTAMP:20260424T050817Z
ORGANIZER;CN=IFMA Schweiz :MAILTO:admin@ifma.ch
GEO:47.379872;8.544478
X-APPLE-STRUCTURED-LOCATION;VALUE=URI;X-ADDRESS=Weinbergstrasse 36\, 8006 Z
 ürich\, Schweiz;X-APPLE-RADIUS=72;X-TITLE=Zürich\, Pfarreizentrum Liebfr
 auen:47.379872;8.544478
END:VEVENT
END:VCALENDAR