BEGIN:VCALENDAR
VERSION:2.0
PRODID:Events Booking
BEGIN:VEVENT
UID:69e73bd2cebdf
SUMMARY:Herausforderungen der Digitalisierung für Wirtschaft & Gesellschaf
 t
DESCRIPTION:Die Jahrestagung zeigt die Chancen und Gefahren der Digitalisie
 rung für die Wirtschaft und im Speziellen für die Energiebranche auf.
 
 &nbsp\;
LOCATION:Limmatstrasse 310\, 8005 Zürich\, Schweiz
DTSTART:20180529T110000Z
DTEND:20180529T150000Z
DTSTAMP:20260421T105650Z
ORGANIZER;CN=IFMA Schweiz :MAILTO:admin@ifma.ch
GEO:47.390169;8.52429
X-APPLE-STRUCTURED-LOCATION;VALUE=URI;X-ADDRESS=Limmatstrasse 310\, 8005 Z
 ürich\, Schweiz;X-APPLE-RADIUS=72;X-TITLE=Zürich\, KV Zürich Business S
 chool:47.390169;8.52429
END:VEVENT
END:VCALENDAR