BEGIN:VCALENDAR
VERSION:2.0
PRODID:Events Booking
BEGIN:VEVENT
UID:69ea0c08a179e
SUMMARY:Grünflächentagung: Arbeitswelt im Wandel
DESCRIPTION:Die Arbeitswelt befindet sich im Umbruch: Sich verändernde Wer
 tvorstellungen\, fortschreitende Digitalisierung\, flexible Arbeitszeiten 
 und -orte sowie neue Anforderungen an Fachkräfte beschäftigen auch die A
 kteure der Grünen Branche. Daraus ergeben sich neue Chancen und Möglichk
 eiten.
 IFMA Mitglieder erhalten 10% Rabatt
LOCATION:Grüental\, 8820 Wädenswil\, Schweiz
DTSTART:20191107T074500Z
DTEND:20191107T160000Z
DTSTAMP:20260423T140944Z
ORGANIZER;CN=IFMA Schweiz :MAILTO:admin@ifma.ch
GEO:47.218222;8.679199
X-APPLE-STRUCTURED-LOCATION;VALUE=URI;X-ADDRESS=Grüental\, 8820 Wädenswil
 \, Schweiz;X-APPLE-RADIUS=72;X-TITLE=Wädenswil\, ZHAW\, Hauptgebäude:47.
 218222;8.679199
END:VEVENT
END:VCALENDAR