BEGIN:VCALENDAR
VERSION:2.0
PRODID:Events Booking
BEGIN:VEVENT
UID:69e77a3140883
SUMMARY:GNI Digitaler Wandel in der Lichtanwendung
DESCRIPTION:Die Branche steht vor der Herausforderung\, das Licht durch dig
 itale Services und Smart Data Management via IoT im Gebäude zu vernetzen.
  Im gesamten Zusammenspiel können dabei auch andere Gewerke profitieren.
LOCATION:Thurgauerstrasse 39\, 8050 Zürich\, Schweiz
DTSTART:20190403T113000Z
DTEND:20190403T153000Z
DTSTAMP:20260421T152257Z
ORGANIZER;CN=IFMA Schweiz :MAILTO:admin@ifma.ch
GEO:47.414464;8.550413
X-APPLE-STRUCTURED-LOCATION;VALUE=URI;X-ADDRESS=Thurgauerstrasse 39\, 8050 
 Zürich\, Schweiz;X-APPLE-RADIUS=72;X-TITLE=Zürich\, Zumtobel Licht AG:47
 .414464;8.550413
END:VEVENT
END:VCALENDAR