BEGIN:VCALENDAR
VERSION:2.0
PRODID:Events Booking
BEGIN:VEVENT
UID:69eb4c979e9a7
SUMMARY:Gebäudetechnik-Kongress
DESCRIPTION:Der nationale Gebäudetechnik-Kongress ist&nbsp\;die ideale Pla
 ttform\, um Forscherinnen und Forscher\, Planerinnen und Planer\, Bauherre
 n\, Architektinnen und Architekten\, Gebäudetechnikerinnen\, Gebäudetech
 niker und Betreiber zusammenzuführen. 
LOCATION:Brown Boveri Pl. 1\, 5400 Baden\, Schweiz
DTSTART:20240918T063000Z
DTEND:20240918T150000Z
DTSTAMP:20240326T062644Z
ORGANIZER;CN=IFMA Schweiz :MAILTO:admin@ifma.ch
GEO:47.478669;8.305394
X-APPLE-STRUCTURED-LOCATION;VALUE=URI;X-ADDRESS=Brown Boveri Pl. 1\, 5400 B
 aden\, Schweiz;X-APPLE-RADIUS=72;X-TITLE=Baden\, Trafo:47.478669;8.305394
END:VEVENT
END:VCALENDAR