BEGIN:VCALENDAR
VERSION:2.0
PRODID:Events Booking
BEGIN:VEVENT
UID:69e7a6de1e8b6
SUMMARY:Furniture in the  Circular Economy
DESCRIPTION:
 Do you want to learn how upcycling furniture fits into the c
 oncepts of circular economy and zero waste?
 Impact Hub Basel invites you
  to an interactive session with the local business ecochair.ch\, where you
  will be introduced to upcycling as a concept\, learn some simple techniqu
 es for repairing and upcycling furniture yourself\, and meet local busines
 ses who are putting this into practice.
LOCATION:Münchensteinerstrasse 274A\, 4053 Basel\, Schweiz
DTSTART:20200218T170000Z
DTSTAMP:20260421T183334Z
ORGANIZER;CN=IFMA Schweiz :MAILTO:admin@ifma.ch
GEO:47.536068;7.609231
X-APPLE-STRUCTURED-LOCATION;VALUE=URI;X-ADDRESS=Münchensteinerstrasse 274A
 \, 4053 Basel\, Schweiz;X-APPLE-RADIUS=72;X-TITLE=Impact Hub\, Basel:47.53
 6068;7.609231
END:VEVENT
END:VCALENDAR