BEGIN:VCALENDAR
VERSION:2.0
PRODID:Events Booking
BEGIN:VEVENT
UID:69eb4382f0668
SUMMARY:fmpro Symposium Aarau
DESCRIPTION:Wissen ausbauen\, Netzwerk stärken und Horizonte erweitern: Am
  27. Juni 2024 findet im Kuk Aarau und in inspirierendem und stimmungsvoll
 em Ambiente das fmpro Symposium 2024 statt – der Community-Anlass für d
 ie ganze FM- und Maintenance-Branche! Das fmpro Symposium ist ein abwechsl
 ungsreicher Mix von Fachinhalten\, Verbandsinformation und Networking.
LOCATION:Schlosspl. 9\, 5000 Aarau\, Schweiz
DTSTART:20240627T110000Z
DTEND:20240627T203000Z
DTSTAMP:20240125T084426Z
ORGANIZER;CN=IFMA Schweiz :MAILTO:admin@ifma.ch
GEO:47.393872;8.044911
X-APPLE-STRUCTURED-LOCATION;VALUE=URI;X-ADDRESS=Schlosspl. 9\, 5000 Aarau\,
  Schweiz;X-APPLE-RADIUS=72;X-TITLE=Aarau\, Kultur & Kongresshaus:47.393872
 ;8.044911
END:VEVENT
END:VCALENDAR