BEGIN:VCALENDAR
VERSION:2.0
PRODID:Events Booking
BEGIN:VEVENT
UID:69eaf1981991d
SUMMARY:fmpro Symposium 2023
DESCRIPTION:Das fmpro Symposium ist ein abwechslungsreicher Mix von Fachinh
 alten\, Verbandsinformation\, Besichtigung und Networking. Highlights sind
 :&nbsp\;
 
 Key Note Referat von Urs Meier\, bekannter ehemaliger FIFA S
 chiedsrichter und heute gefragter TV-Experte und Redner. Sein Kerninhalt: 
 Entscheidungen treffen
 Zwei Fachtagungstracks zu aktuellen Themen mit ho
 chklassigen Referenten
 Innovation Market – der temporeiche und mitreis
 sende Abschluss der Fachtagung
 Duo Luna-Tic – 4 Hände\, 2 Stimmen\, 1
  Klavier sorgen für Stimmung an der fmpro Night
 
LOCATION:Papiermühlestrasse 71\, 3014 Bern\, Schweiz
DTSTART:20230504T090000Z
DTEND:20230504T190000Z
DTSTAMP:20260424T062912Z
ORGANIZER;CN=IFMA Schweiz :MAILTO:admin@ifma.ch
GEO:46.963151;7.465038
X-APPLE-STRUCTURED-LOCATION;VALUE=URI;X-ADDRESS=Papiermühlestrasse 71\, 30
 14 Bern\, Schweiz;X-APPLE-RADIUS=72;X-TITLE=Bern\, Stade de Suisse:46.9631
 51;7.465038
END:VEVENT
END:VCALENDAR