BEGIN:VCALENDAR
VERSION:2.0
PRODID:Events Booking
BEGIN:VEVENT
UID:69e9ef57012f2
SUMMARY:fmpro Netzwerktreffen – Besichtigung Mosterei Möhl
DESCRIPTION:Das fmpro Netzwerk Ostschweiz lädt zum Get together mit Betrie
 bsführung durch die Mosterei Möhl in Arbon sowie zur Besichtigung des Mo
 Mö Museum ein.&nbsp\;Schritt für Schritt wird gezeigt\, wie das Beste au
 s dem Apfel gequetscht wird. Die Führung schliesst mit einer Degustation 
 von Möhlspezialitäten ab.
LOCATION:St. Gallerstrasse 209\, 9320 Stachen\, Schweiz
DTSTART:20200820T131500Z
DTEND:20200820T163000Z
DTSTAMP:20260423T120719Z
ORGANIZER;CN=IFMA Schweiz :MAILTO:admin@ifma.ch
GEO:47.506966;9.412043
X-APPLE-STRUCTURED-LOCATION;VALUE=URI;X-ADDRESS=St. Gallerstrasse 209\, 932
 0 Stachen\, Schweiz;X-APPLE-RADIUS=72;X-TITLE=Arbon\, Mosterei Möhl:47.50
 6966;9.412043
END:VEVENT
END:VCALENDAR