BEGIN:VCALENDAR
VERSION:2.0
PRODID:Events Booking
BEGIN:VEVENT
UID:69ea0aadf3b2d
SUMMARY:fmpro Instandhaltungstag 
DESCRIPTION:Der diesjährige Instandhaltungstag findet bei der Schweizer Zu
 cker AG statt. Nebst spannenden Referaten zum Thema \"Obsoleszenz-Manageme
 nt\" erwartet Sie eine interessante Führung durch das Werk Frauenfeld.
LOCATION:Oberwiesenstrasse 101\, 8500 Frauenfeld\, Schweiz
DTSTART:20191205T123000Z
DTEND:20191205T170000Z
DTSTAMP:20260423T140357Z
ORGANIZER;CN=IFMA Schweiz :MAILTO:admin@ifma.ch
GEO:47.55589;8.875229
X-APPLE-STRUCTURED-LOCATION;VALUE=URI;X-ADDRESS=Oberwiesenstrasse 101\, 850
 0 Frauenfeld\, Schweiz;X-APPLE-RADIUS=72;X-TITLE=Frauenfeld\, Zucker AG:47
 .55589;8.875229
END:VEVENT
END:VCALENDAR