BEGIN:VCALENDAR
VERSION:2.0
PRODID:Events Booking
BEGIN:VEVENT
UID:69e74fda5bc28
SUMMARY:FEZ Special: Entlisberg 2\, Wollishofen
DESCRIPTION:
 Die ABZ ersetzte ihre 1929/1931 erbauten Siedlungen Entlisbe
 rg II und III durch einen zeitgemässen Neubau (Entlisberg 2). Dadurch ent
 standen 213 preiswerte Wohnungen in einem attraktiven und naturnahen Umfel
 d.
 
LOCATION:Entlisbergstrasse 2\, 8038 Zürich\, Schweiz
DTSTART:20180904T151500Z
DTEND:20180904T170000Z
DTSTAMP:20260421T122218Z
ORGANIZER;CN=IFMA Schweiz :MAILTO:admin@ifma.ch
GEO:47.338386;8.524669
X-APPLE-STRUCTURED-LOCATION;VALUE=URI;X-ADDRESS=Entlisbergstrasse 2\, 8038 
 Zürich\, Schweiz;X-APPLE-RADIUS=72;X-TITLE=Wollishofen\, Entlisberg 2:47.
 338386;8.524669
END:VEVENT
END:VCALENDAR