BEGIN:VCALENDAR
VERSION:2.0
PRODID:Events Booking
BEGIN:VEVENT
UID:69ea9018cd92d
SUMMARY:FAWO Netzwerktreffen Ostschweiz
DESCRIPTION:Das etablierte Angebot der Netzwerkgruppe Ostschweiz\, welches 
 wir kurz FAWO nennen\, ist ein Treffen im lockeren Rahmen\, zwei Mal monat
 lich. Es dient Interessierten als Plattform für Wissen\, Netzwerk und Ges
 elligkeit.Themen werden von den Teilnehmenden spontan angesprochen oder k
 önnen gerne im Vorfeld des Anlasses bei der Regionalgruppe eingegeben wer
 den.
LOCATION:Vadianstrasse 14\, 9000 St. Gallen\, Schweiz
DTSTART:20211102T163000Z
DTEND:20211102T180000Z
DTSTAMP:20260423T233312Z
ORGANIZER;CN=IFMA Schweiz :MAILTO:admin@ifma.ch
GEO:47.422709;9.372206
X-APPLE-STRUCTURED-LOCATION;VALUE=URI;X-ADDRESS=Vadianstrasse 14\, 9000 St.
  Gallen\, Schweiz;X-APPLE-RADIUS=72;X-TITLE=St. Gallen\, Café Restaurant 
 Gentile:47.422709;9.372206
END:VEVENT
END:VCALENDAR