BEGIN:VCALENDAR
VERSION:2.0
PRODID:Events Booking
BEGIN:VEVENT
UID:69e77972e5a4e
SUMMARY:Facility Management Day 2019
DESCRIPTION:
 Immobilien im Fokus des Industrie- und Werkplatzes Schweiz.
 
 Flächen und Raumplanung der Zukunft
 Investorensicht der Industriearea
 lentwicklung
 CREM im Industrieumfeld
 Anforderungen an FM-Betreiber von
  Industriearealen
 
 IFMA Mitglieder erhalten einen reduzierten Preis vo
 n CHF 750.- statt 900.-
LOCATION:Bockenweg 4\, 8810 Horgen\, Schweiz
DTSTART:20190521T063000Z
DTEND:20190521T153000Z
DTSTAMP:20260421T151946Z
ORGANIZER;CN=IFMA Schweiz :MAILTO:admin@ifma.ch
GEO:47.24246;8.610916
X-APPLE-STRUCTURED-LOCATION;VALUE=URI;X-ADDRESS=Bockenweg 4\, 8810 Horgen\,
  Schweiz;X-APPLE-RADIUS=72;X-TITLE=Horgen\, Seminarhotel Bocken:47.24246;8
 .610916
END:VEVENT
END:VCALENDAR