BEGIN:VCALENDAR
VERSION:2.0
PRODID:Events Booking
BEGIN:VEVENT
UID:69e9dd286510a
SUMMARY:EuroFM: Members Meeting
DESCRIPTION:At the conference it will be discussed professional standards\,
  technological change and transformation applications and theoretical and 
 application skills of best practices of facility management in various fie
 lds and whow development of University-Public-Private relations are going 
 to be enabled. Special attention will be paid to the opening of booths by 
 willing firms active in the facility management sector in the conference a
 rea and the current practices to be shared with the participants.
LOCATION:Ankara\, Türkei
DTSTART:20191010T070000Z
DTEND:20191011T170000Z
DTSTAMP:20260423T104944Z
ORGANIZER;CN=IFMA Schweiz :MAILTO:admin@ifma.ch
GEO:39.933364;32.859742
X-APPLE-STRUCTURED-LOCATION;VALUE=URI;X-ADDRESS=Ankara\, Türkei;X-APPLE-RA
 DIUS=72;X-TITLE=Ankara:39.933364;32.859742
END:VEVENT
END:VCALENDAR