BEGIN:VCALENDAR
VERSION:2.0
PRODID:Events Booking
BEGIN:VEVENT
UID:69e9ef42190b7
SUMMARY:Energie VorOrt: Schulanlage Looren
DESCRIPTION:Nach beinahe 50-jährigem Betrieb wurde die Schulanlage Looren 
 zwischen 2016 und 2019 umfassend instand gesetzt\, energetisch optimiert u
 nd an aktuelle Vorschriften angepasst. Auch zwei Turnhallen und eine Schul
 schwimmanlage waren Teil der Sanierung.
LOCATION:Katzenschwanzstrasse 7\, 8053 Zürich\, Schweiz
DTSTART:20190918T151500Z
DTEND:20190918T170000Z
DTSTAMP:20260423T120658Z
ORGANIZER;CN=IFMA Schweiz :MAILTO:admin@ifma.ch
GEO:47.361188;8.595999
X-APPLE-STRUCTURED-LOCATION;VALUE=URI;X-ADDRESS=Katzenschwanzstrasse 7\, 80
 53 Zürich\, Schweiz;X-APPLE-RADIUS=72;X-TITLE=Zürich\, Looren:47.361188;
 8.595999
END:VEVENT
END:VCALENDAR