BEGIN:VCALENDAR
VERSION:2.0
PRODID:Events Booking
BEGIN:VEVENT
UID:69e77a1b5b63c
SUMMARY:Energie VorOrt: Quai Zurich
DESCRIPTION:Der Holzbau mit Null-Heizenergie-Bilanz ist Minergie-P-Eco zert
 ifiziert. Eine abgewinkelte Balkonschicht mit goldenen glitzernden\, polyk
 ristallinen Photovoltaikmodulen (PV) umfasst die Bauten dreiseitig\, macht
  diese unverwechselbar und versorgt das Haus mit elektrischem Strom.
LOCATION:Zwyssigstrasse 9\, 8048 Zürich\, Schweiz
DTSTART:20190604T151500Z
DTEND:20190604T170000Z
DTSTAMP:20260421T152235Z
ORGANIZER;CN=IFMA Schweiz :MAILTO:admin@ifma.ch
GEO:47.383816;8.485147
X-APPLE-STRUCTURED-LOCATION;VALUE=URI;X-ADDRESS=Zwyssigstrasse 9\, 8048 Zü
 rich\, Schweiz;X-APPLE-RADIUS=72;X-TITLE=Zürich-Altstetten\, Zwyssigstras
 se:47.383816;8.485147
END:VEVENT
END:VCALENDAR