BEGIN:VCALENDAR
VERSION:2.0
PRODID:Events Booking
BEGIN:VEVENT
UID:69e5fb9f3aa68
SUMMARY:Energie-Apéro: Interlaken - Smarte Lösungen gegen den Klimawandel
DESCRIPTION:Wie begegnen wir den Folgen des Klimawandels in unserer Bergreg
 ion? Welche Lösungen könnten helfen\, den rasanten Klimawandel zu verlan
 gsamen? Mögliche Antworten darauf sowie News zur regionalen Energiepoliti
 k und dem Energiegesetz erfahren Sie am Energie-Apéro 2019 in Interlaken.
DTSTART:20190508T160000Z
DTEND:20190508T181500Z
DTSTAMP:20260420T121039Z
ORGANIZER;CN=IFMA Schweiz :MAILTO:admin@ifma.ch
END:VEVENT
END:VCALENDAR