BEGIN:VCALENDAR
VERSION:2.0
PRODID:Events Booking
BEGIN:VEVENT
UID:69e7794245316
SUMMARY:EFMC 2019 Dublin
DESCRIPTION:Save the date! More information will follow soon.
LOCATION:Dublin\, Irland
DTSTART:20190611T220000Z
DTEND:20190613T220000Z
DTSTAMP:20260421T151858Z
ORGANIZER;CN=IFMA Schweiz :MAILTO:admin@ifma.ch
GEO:53.349805;-6.26031
X-APPLE-STRUCTURED-LOCATION;VALUE=URI;X-ADDRESS=Dublin\, Irland;X-APPLE-RAD
 IUS=72;X-TITLE=Dublin\, Irland:53.349805;-6.26031
END:VEVENT
END:VCALENDAR