BEGIN:VCALENDAR
VERSION:2.0
PRODID:Events Booking
BEGIN:VEVENT
UID:69ea9018b70f9
SUMMARY:Early Bird - Netzwerk Nordschweiz
DESCRIPTION:Im Rahmen des Early Bird von fmpro treffen sich jeweils am erst
 en Dienstag im Monat\,&nbsp\; Interessierte im Hauptbahnhof Zürich zum lo
 sen Netzwerken bei Kaffee und Gipfeli. Special Guest ist dieses Mal Beat S
 temmler von intep.
 Treffpunkt ist im Lichthof\, hinter dem Tresens des C
 afé Oscar (direkt in der Haupthalle des Hauptbahnhof Zürich beim Treffpu
 nkt).
LOCATION:Zürich HB\, Bahnhofpl.\, 8001 Zürich\, Schweiz
DTSTART:20211102T063000Z
DTEND:20211102T073000Z
DTSTAMP:20260423T233312Z
ORGANIZER;CN=IFMA Schweiz :MAILTO:admin@ifma.ch
GEO:47.377858;8.540323
X-APPLE-STRUCTURED-LOCATION;VALUE=URI;X-ADDRESS=Zürich HB\, Bahnhofpl.\, 8
 001 Zürich\, Schweiz;X-APPLE-RADIUS=72;X-TITLE=Zürich\, Café Oscar (am 
 HB):47.377858;8.540323
END:VEVENT
END:VCALENDAR