BEGIN:VCALENDAR
VERSION:2.0
PRODID:Events Booking
BEGIN:VEVENT
UID:69ea2d699d8f4
SUMMARY:Der Weg zurück in ein neues Normal 
DESCRIPTION:Die Rückkehr an den Arbeitsplatz wird erfolgen\, bevor die Pan
 demie bewältigt ist. Dies stellt das Facility Management vor eine veränd
 erte Ausgangslage und neue Herausforderungen.
LOCATION:Zürich\, Schweiz
DTSTART:20210609T140000Z
DTEND:20210609T150000Z
DTSTAMP:20260423T163209Z
ORGANIZER;CN=IFMA Schweiz :MAILTO:admin@ifma.ch
GEO:47.376887;8.541694
X-APPLE-STRUCTURED-LOCATION;VALUE=URI;X-ADDRESS=Zürich\, Schweiz;X-APPLE-R
 ADIUS=72;X-TITLE=online:47.376887;8.541694
END:VEVENT
END:VCALENDAR