BEGIN:VCALENDAR
VERSION:2.0
PRODID:Events Booking
BEGIN:VEVENT
UID:69e9efbaee340
SUMMARY:MuKEn 2014: Konsequenzen auf Betriebsoptimierung und Haustechnik
DESCRIPTION:Die neuen Mustervorschriften der Kantone im Energiebereich (MuK
 En) konfrontieren Planer\, BO- und Haustechnikfachleute mit neuen Frageste
 llungen. In einer Diskussionsrunde mit Vertretern des AWEL sollen diese ge
 klärt werden. Anhand von Fallbeispielen werden Lösungsansätze und Chanc
 en für BO aufgezeigt.
LOCATION:Beatenpl. 2\, 8001 Zürich\, Schweiz
DTSTART:20190911T154500Z
DTEND:20190911T171500Z
DTSTAMP:20260423T120858Z
ORGANIZER;CN=IFMA Schweiz :MAILTO:admin@ifma.ch
GEO:47.37578;8.540698
X-APPLE-STRUCTURED-LOCATION;VALUE=URI;X-ADDRESS=Beatenpl. 2\, 8001 Zürich\
 , Schweiz;X-APPLE-RADIUS=72;X-TITLE=Zürich\, EWZ Vortragssaal:47.37578;8.
 540698
END:VEVENT
END:VCALENDAR