BEGIN:VCALENDAR
VERSION:2.0
PRODID:Events Booking
BEGIN:VEVENT
UID:69eb2670e3383
SUMMARY:bauenschweiz Webinar #1: Methodik hinter dem Vergabemonitor und akt
 uellste Ergebnisse
DESCRIPTION:Webinar-Reihe zum Beschaffungsrecht. Am Bauenschweiz Webinar Nr
 . 1 erhalten Sie einen Einblick in die Methodik und die aktuellsten Ergebn
 isse aus dem kurz vorher publizierten Vergabemonitor.
LOCATION:Zürich\, Schweiz
DTSTART:20240325T080000Z
DTEND:20240325T093000Z
DTSTAMP:20240220T072212Z
ORGANIZER;CN=IFMA Schweiz :MAILTO:admin@ifma.ch
GEO:47.376887;8.541694
X-APPLE-STRUCTURED-LOCATION;VALUE=URI;X-ADDRESS=Zürich\, Schweiz;X-APPLE-R
 ADIUS=72;X-TITLE=online:47.376887;8.541694
END:VEVENT
END:VCALENDAR