BEGIN:VCALENDAR
VERSION:2.0
PRODID:Events Booking
BEGIN:VEVENT
UID:69eadef2240a9
SUMMARY:15. IFM-Kongress 2022 an der TU Wien
DESCRIPTION:Der 15. IFM Kongress findet auch 2022 wieder hybrid\, also vor 
 Ort&nbsp\;an der TU Wien und online statt.&nbsp\;Top-Manager&nbsp\;aus der
  Wirtschaft sowie&nbsp\;hochqualifizierte Forscher&nbsp\;aus ganz Europa\,
  den USA und Asien treffen sich am IFM Kongress\, um sich über die aktuel
 len Themen der Industrie auszutauschen.
 Das bewährte Motto lautet Wisse
 nschaft trifft Praxis und&nbsp\;stellt die Bedeutung des Managements von F
 M in den Mittelpunkt.&nbsp\;&nbsp\;
LOCATION:Karlsplatz 13\, 1040 Wien\, Österreich
DTSTART:20221116T230000Z
DTEND:20221117T230000Z
DTSTAMP:20260424T050938Z
ORGANIZER;CN=IFMA Schweiz :MAILTO:admin@ifma.ch
GEO:48.198965;16.369922
X-APPLE-STRUCTURED-LOCATION;VALUE=URI;X-ADDRESS=Karlsplatz 13\, 1040 Wien\,
  Österreich;X-APPLE-RADIUS=72;X-TITLE=Wien\, TU (Technische Universität)
 :48.198965;16.369922
END:VEVENT
END:VCALENDAR