BEGIN:VCALENDAR
VERSION:2.0
PRODID:Events Booking
BEGIN:VEVENT
UID:69ea45be119db
SUMMARY:14. IFM Kongress 2021: Wissenschaft trifft Praxis!
DESCRIPTION:
LOCATION:Zürich\, Schweiz
DTSTART:20211111T080000Z
DTEND:20211112T150000Z
DTSTAMP:20260423T181558Z
ORGANIZER;CN=IFMA Schweiz :MAILTO:admin@ifma.ch
GEO:47.376887;8.541694
X-APPLE-STRUCTURED-LOCATION;VALUE=URI;X-ADDRESS=Zürich\, Schweiz;X-APPLE-R
 ADIUS=72;X-TITLE=online:47.376887;8.541694
END:VEVENT
END:VCALENDAR