BEGIN:VCALENDAR
VERSION:2.0
PRODID:Events Booking
BEGIN:VEVENT
UID:69e5e1d93d60a
SUMMARY:RICS New Year Event
DESCRIPTION:An dieser Veranstaltung blickt RICS auf das Jahr 2019 zurück u
 nd wagt einen Ausblick auf die Herausforderungen im Jahr 2020.&nbsp\;
 IF
 MA Schweiz Mitglieder können zu den gleichen Konditionen wie RICS Mitglie
 der teilnehmen.
LOCATION:Esplanade de Pont-Rouge 4 Grand-Lancy\, 1212 Geneva\, Schweiz
DTSTART:20200114T170000Z
DTEND:20200114T190000Z
DTSTAMP:20260420T102041Z
ORGANIZER;CN=IFMA Schweiz :MAILTO:admin@ifma.ch
GEO:46.187321;6.12669
X-APPLE-STRUCTURED-LOCATION;VALUE=URI;X-ADDRESS=Esplanade de Pont-Rouge 4 G
 rand-Lancy\, 1212 Geneva\, Schweiz;X-APPLE-RADIUS=72;X-TITLE=Genf\, Regus 
 Pont-Rouge:46.187321;6.12669
END:VEVENT
END:VCALENDAR