BEGIN:VCALENDAR
VERSION:2.0
PRODID:Events Booking
BEGIN:VEVENT
UID:69e5e67d4e3be
SUMMARY:Réunion du réseau Romandie
DESCRIPTION:Le Réseau Romandie fmpro vous invite à son événement sur le
  thème: \"Mobilité : Evolution des tendances et gestion d’un parc véh
 icule au sein de l’entreprise\". On répond aux questions comme: Doit-on
  se doter d’une flotte de véhicules à émissions de CO2 réduites pour
  les besoins de notre entreprise ? Quelle gestion adopter pour leur statio
 nnement ? Quelles sont les alternatives et comment les promouvoir ? Et à 
 l’échelle d’une ville ou d’un projet immobilier?
LOCATION:Place de la Gare 11\, 1003 Lausanne\, Schweiz
DTSTART:20211104T163000Z
DTEND:20211104T193000Z
DTSTAMP:20260420T104029Z
ORGANIZER;CN=IFMA Schweiz :MAILTO:admin@ifma.ch
GEO:46.517239;6.627913
X-APPLE-STRUCTURED-LOCATION;VALUE=URI;X-ADDRESS=Place de la Gare 11\, 1003 
 Lausanne\, Schweiz;X-APPLE-RADIUS=72;X-TITLE=Lausanne\, Tibits:46.517239;6
 .627913
END:VEVENT
END:VCALENDAR