BEGIN:VCALENDAR
VERSION:2.0
PRODID:Events Booking
BEGIN:VEVENT
UID:69e5e64b6a048
SUMMARY:Netzwerktreffen Reinigung
DESCRIPTION:Die Firma GRAF Facility Services GmbH bietet unter anderem vers
 chiedene Arten von Sonderreinigungen an. Dazu gehört auch die Tatortreini
 gung. Roger Graf gibt einen Einblick in dieses spezielle Thema der Reinigu
 ng\, das normalerweise im Verborgenen stattfindet.
LOCATION:Silbernstrasse 12\, 8953 Dietikon\, Schweiz
DTSTART:20220309T150000Z
DTEND:20220309T180000Z
DTSTAMP:20260420T103939Z
ORGANIZER;CN=IFMA Schweiz :MAILTO:admin@ifma.ch
GEO:47.417336;8.395395
X-APPLE-STRUCTURED-LOCATION;VALUE=URI;X-ADDRESS=Silbernstrasse 12\, 8953 Di
 etikon\, Schweiz;X-APPLE-RADIUS=72;X-TITLE=Dietikon\, Allpura - Sektion Z
 ürich\, Ausbildungscenter:47.417336;8.395395
END:VEVENT
END:VCALENDAR