BEGIN:VCALENDAR
VERSION:2.0
PRODID:Events Booking
BEGIN:VEVENT
UID:69eb67b4c4adf
SUMMARY:Netzwerktreffen Ostschweiz: Besichtigung Bergwerk Gonzen SG
DESCRIPTION:Stollenbesichtigung des Eisenbergwerks Gonzen. Die Führung gib
 t einen ersten Eindruck von der Grösse des Bergwerkes. Nach einem Einfüh
 rungs-Film besteigen Sie mit einem Helm ausgerüstet den Bergwerkszug für
  die 2 Kilometer lange Fahrt durch den Basisstollen in den Hauptbahnhof. A
 uf einem beleuchteten Rundgang erhalten Sie einen Einblick in die Infrastr
 uktur rund um den Hauptbahnhof\, sehen die Entladestelle des Bremsberges N
 auswand\, die Windenkammer des Gesenkes Fluhwand usw.
LOCATION:Vild 17\, 7320 Sargans\, Schweiz
DTSTART:20240822T124500Z
DTEND:20240822T170000Z
DTSTAMP:20240711T075418Z
ORGANIZER;CN=IFMA Schweiz :MAILTO:admin@ifma.ch
GEO:47.057433;9.451097
X-APPLE-STRUCTURED-LOCATION;VALUE=URI;X-ADDRESS=Vild 17\, 7320 Sargans\, Sc
 hweiz;X-APPLE-RADIUS=72;X-TITLE=St. Gallen\, Sargans:47.057433;9.451097
END:VEVENT
END:VCALENDAR