BEGIN:VCALENDAR
VERSION:2.0
PRODID:Events Booking
BEGIN:VEVENT
UID:69e8cd84a2cf4
SUMMARY:Netzwerk Nordschweiz Herbstanlass: Besichtigung Hauptsitz Zurich In
 surance Group
DESCRIPTION:Der diesjährige Netzwerkanlass ermöglicht Ihnen einen Blick h
 inter die Mauern des \"Quai Zurich Campus\"\, dem globalen Hauptsitz der Z
 urich Insurance Group am Mythenquai in Zürich\, den der Konzern seit 120 
 Jahren mit Stolz sein Zuhause nennt.Im Anschluss daran findet ein gemeinsa
 mes Abendessen statt.
LOCATION:Alfred-Escher-Strasse 45\, 8002 Zürich\, Schweiz
DTSTART:20211125T163000Z
DTEND:20211125T190000Z
DTSTAMP:20260422T153044Z
ORGANIZER;CN=IFMA Schweiz :MAILTO:admin@ifma.ch
GEO:47.36196;8.534231
X-APPLE-STRUCTURED-LOCATION;VALUE=URI;X-ADDRESS=Alfred-Escher-Strasse 45\, 
 8002 Zürich\, Schweiz;X-APPLE-RADIUS=72;X-TITLE=Zürich\, Zurich Insuranc
 e Group:47.36196;8.534231
END:VEVENT
END:VCALENDAR