BEGIN:VCALENDAR
VERSION:2.0
PRODID:Events Booking
BEGIN:VEVENT
UID:69e5f6a0a7119
SUMMARY:Mattenbach 2 in Winterthur
DESCRIPTION:FEZ ENERGIE VorOrtNachhaltiger Lebensraum für Mensch und Tier.
  Vom pädagogischen Verlag\, über ein Druckereigebäude\, hin zur Umnutzu
 ng als sozial durchmischte\, naturnahe und nachhaltige Überbauung: Raum z
 um Wohnen\, Arbeiten und Verweilen. 23 Wohnungen\, eine Clusterwohnung\, d
 iverse Ateliers und ein Gemeinschaftsraum bilden den Nutzungsmix.
LOCATION:Mattenbachstrasse 2\, 8400 Winterthur\, Schweiz
DTSTART:20220706T151500Z
DTEND:20220706T170000Z
DTSTAMP:20260420T114920Z
ORGANIZER;CN=IFMA Schweiz :MAILTO:admin@ifma.ch
GEO:47.494212;8.735727
X-APPLE-STRUCTURED-LOCATION;VALUE=URI;X-ADDRESS=Mattenbachstrasse 2\, 8400 
 Winterthur\, Schweiz;X-APPLE-RADIUS=72;X-TITLE=Winterthur\, Gemeinschaftsr
 aum Eingang A (Haupteingang):47.494212;8.735727
END:VEVENT
END:VCALENDAR