BEGIN:VCALENDAR
VERSION:2.0
PRODID:Events Booking
BEGIN:VEVENT
UID:69eb3230879c1
SUMMARY:Kurs Energetische Betriebsoptimierung
DESCRIPTION:Dieser Einführungskurs richtet sich an Fachpersonen mit Erfahr
 ung im Themengebiet.&nbsp\;
 
 Methodische Ansätze / Vorgehen bei Erneu
 erungen
 Energiebilanzbetrachtungen Ist / Soll
 Messungen\, Analysen: Wa
 s ist wo notwendig?
 Betriebsoptimierung\, Einzelmassnahmen\, Gesamterneu
 erungen
 Monitoring und Erfolgskontrolle 
 
LOCATION:Zürich\, Schweiz
DTSTART:20240305T163000Z
DTEND:20240305T190000Z
DTSTAMP:20240119T142003Z
ORGANIZER;CN=IFMA Schweiz :MAILTO:admin@ifma.ch
GEO:47.376887;8.541694
X-APPLE-STRUCTURED-LOCATION;VALUE=URI;X-ADDRESS=Zürich\, Schweiz;X-APPLE-R
 ADIUS=72;X-TITLE=Zürich:47.376887;8.541694
END:VEVENT
END:VCALENDAR