BEGIN:VCALENDAR
VERSION:2.0
PRODID:Events Booking
BEGIN:VEVENT
UID:69e4fe34015b2
SUMMARY:Kadertag Gebäudetechnik
DESCRIPTION:Unternehmertum - Führung - Teambuilding
 
 Was heisst Untern
 ehmertum?
 Was zeichnet einen guten Unternehmer aus?
 Was kann ich aus E
 rfolgsgeschichten lernen?
 Mit welchen Massnahmen stärken sich HLK-Firme
 n für die Zukunft?
 Welche Führungsqualitäten sind jetzt und nach «Co
 rona» gefragt?
 Wie profiliere ich mich als Arbeitgeber?
 Wie kann ich 
 meine Mitarbeiter besser führen?
 Wie werden wir ein verschworenes Team?
 
 
LOCATION:Brown Boveri Pl. 1\, 5400 Baden\, Schweiz
DTSTART:20210831T063000Z
DTEND:20210831T150000Z
DTSTAMP:20260419T180924Z
ORGANIZER;CN=IFMA Schweiz :MAILTO:admin@ifma.ch
GEO:47.478669;8.305394
X-APPLE-STRUCTURED-LOCATION;VALUE=URI;X-ADDRESS=Brown Boveri Pl. 1\, 5400 B
 aden\, Schweiz;X-APPLE-RADIUS=72;X-TITLE=Baden\, Trafo:47.478669;8.305394
END:VEVENT
END:VCALENDAR